BEGIN:VCALENDAR
VERSION:2.0
PRODID:-//Design Insider - ECPv6.3.2//NONSGML v1.0//EN
CALSCALE:GREGORIAN
METHOD:PUBLISH
X-WR-CALNAME:Design Insider
X-ORIGINAL-URL:https://www.designinsiderlive.com
X-WR-CALDESC:Events for Design Insider
REFRESH-INTERVAL;VALUE=DURATION:PT1H
X-Robots-Tag:noindex
X-PUBLISHED-TTL:PT1H
BEGIN:VTIMEZONE
TZID:Europe/London
BEGIN:DAYLIGHT
TZOFFSETFROM:+0000
TZOFFSETTO:+0100
TZNAME:BST
DTSTART:20180325T010000
END:DAYLIGHT
BEGIN:STANDARD
TZOFFSETFROM:+0100
TZOFFSETTO:+0000
TZNAME:GMT
DTSTART:20181028T010000
END:STANDARD
BEGIN:DAYLIGHT
TZOFFSETFROM:+0000
TZOFFSETTO:+0100
TZNAME:BST
DTSTART:20190331T010000
END:DAYLIGHT
BEGIN:STANDARD
TZOFFSETFROM:+0100
TZOFFSETTO:+0000
TZNAME:GMT
DTSTART:20191027T010000
END:STANDARD
BEGIN:DAYLIGHT
TZOFFSETFROM:+0000
TZOFFSETTO:+0100
TZNAME:BST
DTSTART:20200329T010000
END:DAYLIGHT
BEGIN:STANDARD
TZOFFSETFROM:+0100
TZOFFSETTO:+0000
TZNAME:GMT
DTSTART:20201025T010000
END:STANDARD
BEGIN:DAYLIGHT
TZOFFSETFROM:+0000
TZOFFSETTO:+0100
TZNAME:BST
DTSTART:20210328T010000
END:DAYLIGHT
BEGIN:STANDARD
TZOFFSETFROM:+0100
TZOFFSETTO:+0000
TZNAME:GMT
DTSTART:20211031T010000
END:STANDARD
BEGIN:DAYLIGHT
TZOFFSETFROM:+0000
TZOFFSETTO:+0100
TZNAME:BST
DTSTART:20220327T010000
END:DAYLIGHT
BEGIN:STANDARD
TZOFFSETFROM:+0100
TZOFFSETTO:+0000
TZNAME:GMT
DTSTART:20221030T010000
END:STANDARD
BEGIN:DAYLIGHT
TZOFFSETFROM:+0000
TZOFFSETTO:+0100
TZNAME:BST
DTSTART:20230326T010000
END:DAYLIGHT
BEGIN:STANDARD
TZOFFSETFROM:+0100
TZOFFSETTO:+0000
TZNAME:GMT
DTSTART:20231029T010000
END:STANDARD
END:VTIMEZONE
BEGIN:VEVENT
DTSTART;VALUE=DATE:20180305
DTEND;VALUE=DATE:20180309
DTSTAMP:20260424T201904
CREATED:20171211T164057Z
LAST-MODIFIED:20171211T165338Z
UID:17730-1520208000-1520553599@www.designinsiderlive.com
SUMMARY:Hotelympia
DESCRIPTION:About\nThe Hotelympia story began in 1935. Founded by The Craft Guild of Chefs and launched as ‘Hotel Restaurant & Catering Exhibition’\, hosted at Olympia. \nIn March 2018\, Hotelympia returns with four brand new shows\, providing a platform for restaurants\, hotels\, pubs\, casual dining and contract caterers to meet\, review and source from the finest suppliers available in the market. \nPast show
URL:https://www.designinsiderlive.com/event/hotelympia/
LOCATION:Excel\, Royal Victoria Dock\, London\, E16 1XL\, United Kingdom
CATEGORIES:UK
ATTACH;FMTTYPE=image/jpeg:https://www.designinsiderlive.com/wp-content/uploads/2017/12/Hotelympia.jpg
END:VEVENT
BEGIN:VEVENT
DTSTART;TZID=Europe/London:20231116T080000
DTEND;TZID=Europe/London:20231116T170000
DTSTAMP:20260424T201904
CREATED:20231107T135336Z
LAST-MODIFIED:20231107T135529Z
UID:49751-1700121600-1700154000@www.designinsiderlive.com
SUMMARY:HIX 2023
DESCRIPTION:Across two days of expo\, talks\, installations and networking\, Hotel Interiors Experience (HIX) celebrates everything that makes hotels great. Bringing the hotel interiors supply chain together under one roof at London’s Business Design Centre\, it highlights the best established and emerging brands and the latest trends in hotel design.
URL:https://www.designinsiderlive.com/event/hix-2023/
ATTACH;FMTTYPE=image/png:https://www.designinsiderlive.com/wp-content/uploads/2023/11/hix-image4-600x600-1.png
END:VEVENT
BEGIN:VEVENT
DTSTART;VALUE=DATE:20231129
DTEND;VALUE=DATE:20231130
DTSTAMP:20260424T201904
CREATED:20230906T135609Z
LAST-MODIFIED:20231003T180553Z
UID:47634-1701216000-1701302399@www.designinsiderlive.com
SUMMARY:Cruise Ship Interiors Expo Europe 2023
DESCRIPTION:
URL:https://www.designinsiderlive.com/event/cruise-ship-interiors-expo-europe-2023/
ATTACH;FMTTYPE=image/jpeg:https://www.designinsiderlive.com/wp-content/uploads/2023/09/cruise-ship-interiors_0.jpg
END:VEVENT
BEGIN:VEVENT
DTSTART;VALUE=DATE:20231129
DTEND;VALUE=DATE:20231130
DTSTAMP:20260424T201904
CREATED:20231107T135727Z
LAST-MODIFIED:20231107T135727Z
UID:49759-1701216000-1701302399@www.designinsiderlive.com
SUMMARY:CRUISE SHIP INTERIORS EXPO EUROPE 2023
DESCRIPTION:Cruise Ship Interiors Expo is the world’s only exhibition and conference exclusively dedicated to connecting the buyers and suppliers of the cruise design industry. CSI will bring together leading cruise lines and shipyards to meet with exhibiting designers\, architects\, outfitters\, and interiors suppliers from across cruise design.
URL:https://www.designinsiderlive.com/event/cruise-ship-interiors-expo-europe-2023-2/
ATTACH;FMTTYPE=image/jpeg:https://www.designinsiderlive.com/wp-content/uploads/2023/11/csi.jpg
END:VEVENT
BEGIN:VEVENT
DTSTART;VALUE=DATE:20231201
DTEND;VALUE=DATE:20231207
DTSTAMP:20260424T201904
CREATED:20171211T162906Z
LAST-MODIFIED:20231003T171106Z
UID:17727-1701388800-1701907199@www.designinsiderlive.com
SUMMARY:London Design Week / Focus
DESCRIPTION:About\nLondon Design Week 2018 at Design Centre\, Chelsea Harbour is a six-day event that captures the mood of the moment. There is an incredible line-up of 120 exhibitors and more than 100 immersive experiences\, plus imaginative pop-ups\, bespoke installations and tempting food and drink. \nTaking place in London but refreshingly global\, the compelling edit offers designers\, architects and style-seekers a multi-dimensional experience\, continuing a shared commitment to discovery and design excellence. This year\, there is a wealth of opportunities to get the inside track from key influencers\, established makers\, luxury brands and emerging talent that captures a new spirit of individuality and creativity. \n 
URL:https://www.designinsiderlive.com/event/london-design-week-focus/
LOCATION:Design Centre\, Chelsea Harbour\, London\, SW10 0XE @designcentrech\, United Kingdom
ATTACH;FMTTYPE=image/png:https://www.designinsiderlive.com/wp-content/uploads/2017/12/Screenshot-2023-10-03-at-18.08.39.png
END:VEVENT
END:VCALENDAR