BEGIN:VCALENDAR
VERSION:2.0
PRODID:-//Design Insider - ECPv6.3.2//NONSGML v1.0//EN
CALSCALE:GREGORIAN
METHOD:PUBLISH
X-ORIGINAL-URL:https://www.designinsiderlive.com
X-WR-CALDESC:Events for Design Insider
REFRESH-INTERVAL;VALUE=DURATION:PT1H
X-Robots-Tag:noindex
X-PUBLISHED-TTL:PT1H
BEGIN:VTIMEZONE
TZID:Europe/London
BEGIN:DAYLIGHT
TZOFFSETFROM:+0000
TZOFFSETTO:+0100
TZNAME:BST
DTSTART:20180325T010000
END:DAYLIGHT
BEGIN:STANDARD
TZOFFSETFROM:+0100
TZOFFSETTO:+0000
TZNAME:GMT
DTSTART:20181028T010000
END:STANDARD
END:VTIMEZONE
BEGIN:VEVENT
DTSTART;VALUE=DATE:20180305
DTEND;VALUE=DATE:20180309
DTSTAMP:20260424T170416
CREATED:20171211T164057Z
LAST-MODIFIED:20171211T165338Z
UID:17730-1520208000-1520553599@www.designinsiderlive.com
SUMMARY:Hotelympia
DESCRIPTION:About\nThe Hotelympia story began in 1935. Founded by The Craft Guild of Chefs and launched as ‘Hotel Restaurant & Catering Exhibition’\, hosted at Olympia. \nIn March 2018\, Hotelympia returns with four brand new shows\, providing a platform for restaurants\, hotels\, pubs\, casual dining and contract caterers to meet\, review and source from the finest suppliers available in the market. \nPast show
URL:https://www.designinsiderlive.com/event/hotelympia/
LOCATION:Excel\, Royal Victoria Dock\, London\, E16 1XL\, United Kingdom
CATEGORIES:UK
ATTACH;FMTTYPE=image/jpeg:https://www.designinsiderlive.com/wp-content/uploads/2017/12/Hotelympia.jpg
END:VEVENT
END:VCALENDAR